Workbook
Name CEEUW: #REF!
Name CEEUW: #REF!
Name Industrija: #REF!
Name Industrija: #REF!
Name NBO: #REF!
Name NBO: #REF!
Name PD: #REF!
Name PD: #REF!
Name Q4a: #REF!
Name Q4a: #REF!
Name Q4b: #REF!
Name Q4b: #REF!
Name Q4c: #REF!
Name Q4c: #REF!
Name Q4e: #REF!
Name Q4e: #REF!
Name Ročnost: #REF!
Name Ročnost: #REF!
Name Segment: #REF!
Name Segment: #REF!
Name Tri: #REF!
Name Tri: #REF!
Name UPUTA_E13: #REF!
Name UPUTA_E13: #REF!

Sheet Uputa
G1: PODACI O KLIJENTU - PRILOG UZ ZAHTJEV
A3: VAŽNO!!!
A5: MOLIMO PROČITATI PRIJE ISPUNJAVANJA.
A7: Obrasci koje ispunjavate su pripremljeni na način da omogućuju kvalitetniju obradu unesenih podataka a sve sa ciljem brže obrade vašeg zahtjeva
A8: Podaci se unose samo u bijela polja
A10: Prije ispunjavanja molimo vas da ispunite slijedeća polja kako bi podaci u njima bili povučeni na svim ostalim predviđenim mjestima
A12: Naziv društva i sjedište: | K12: Format: TVRTKA d.o.o. GRAD
A14: Datum zadnje dostupnih financijskih podataka (na zadnji dan mjeseca): | K14: Format: dd.mm.gggg
A15: *Molimo da financijski podatci ne budu stariji od 3 mjeseca
A17: Tekuća godina: | K17: Format gggg (bez točke na kraju)
A19: Zadnji dan prethodne godine | E19: =DATE(E17-1,12,31) -> #NUM! | K19: Format: dd.mm.gggg
A22: U cilju bržeg rješavanja vašeg zahtjeva molimo dostaviti tablicu vašem voditelju poslovnog odnosa na e-mail adresu:

Sheet Kupci
A1: Kupac | B1: =CONCATENATE("Stanje na dan ",TEXT(Uputa!E14,"dd.mm.yyy")) -> Stanje na dan 00.01.1900
B2: Ukupno | C2: Nedospjelo | D2: Dospjelo | E2: Dospjelo 1-30d | F2: Dospjelo 31-90d | H2: Dospjelo preko 90d**
B3: =IFERROR(C3+D3,"") -> 0 | D3: =IFERROR(SUM(E3:H3),"") -> 0
B4: =IFERROR(C4+D4,"") -> 0 | D4: =IFERROR(SUM(E4:H4),"") -> 0
B5: =IFERROR(C5+D5,"") -> 0 | D5: =IFERROR(SUM(E5:H5),"") -> 0
B6: =IFERROR(C6+D6,"") -> 0 | D6: =IFERROR(SUM(E6:H6),"") -> 0
B7: =IFERROR(C7+D7,"") -> 0 | D7: =IFERROR(SUM(E7:H7),"") -> 0
B8: =IFERROR(C8+D8,"") -> 0 | D8: =IFERROR(SUM(E8:H8),"") -> 0
B9: =IFERROR(C9+D9,"") -> 0 | D9: =IFERROR(SUM(E9:H9),"") -> 0
B10: =IFERROR(C10+D10,"") -> 0 | D10: =IFERROR(SUM(E10:H10),"") -> 0
B11: =IFERROR(C11+D11,"") -> 0 | D11: =IFERROR(SUM(E11:H11),"") -> 0
B12: =IFERROR(C12+D12,"") -> 0 | D12: =IFERROR(SUM(E12:H12),"") -> 0
A13: Top 10 | B13: =SUM(B3:B12) -> 0 | C13: =SUM(C3:C12) -> 0 | D13: =SUM(D3:D12) -> 0 | E13: =SUM(E3:E12) -> 0 | F13: =SUM(G3:G12) -> 0 | H13: =SUM(H3:H12) -> 0
A14: Ostali | B14: =IFERROR(C14+D14,"") -> 0 | D14: =IFERROR(SUM(E14:H14),"") -> 0
A15: UKUPNO* | B15: =B13+B14 -> 0 | C15: =C13+C14 -> 0 | D15: =D13+D14 -> 0 | E15: =E13+E14 -> 0 | F15: =F13+G14 -> 0 | H15: =H13+H14 -> 0
A16: Unosi se od najvećeg stanja potraživanja na gore navedeni datum
A17: *Ukupno mora odgovarati stanju ukupnih kupaca iz pripadajuće bruto bilance na gore navedeni datum
A18: **Obavezno dodatno specificirati najveća potraživanja dospjela preko 90 dana i komentirati vjerojatnost naplate
A21: Najveći prometi s kupcima u tekućoj godini | E21: Najveći prometi s kupcima u prethodnoj godini | I21: Sporna i utužena potraživanja
A22: Kupac | B22: =CONCATENATE("Promet do ",TEXT(Uputa!E14,"dd.mm.yyy")) -> Promet do 00.01.1900 | E22: Kupac | F22: =CONCATENATE("Promet u prethodnoj godini (",Uputa!E17-1,")") -> Promet u prethodnoj godini (-1) | I22: Kupac | J22: =CONCATENATE("Stanje na dan ",TEXT(Uputa!E14,"dd.mm.yyy")) -> Stanje na dan 00.01.1900 | K22: Vjerojatnost naplate
B23: 000 EUR | C23: % | F23: 000 EUR | G23: % | J23: 000 EUR
C24: =IFERROR(B24/$B$36,"") | G24: =IFERROR(F24/$F$36,"") | K24: =IFERROR(J24/$F$36,"")
C25: =IFERROR(B25/$B$36,"") | G25: =IFERROR(F25/$F$36,"") | K25: =IFERROR(J25/$F$36,"")
C26: =IFERROR(B26/$B$36,"") | G26: =IFERROR(F26/$F$36,"") | K26: =IFERROR(J26/$F$36,"")
C27: =IFERROR(B27/$B$36,"") | G27: =IFERROR(F27/$F$36,"") | K27: =IFERROR(J27/$F$36,"")
C28: =IFERROR(B28/$B$36,"") | G28: =IFERROR(F28/$F$36,"") | K28: =IFERROR(J28/$F$36,"")
C29: =IFERROR(B29/$B$36,"") | G29: =IFERROR(F29/$F$36,"") | K29: =IFERROR(J29/$F$36,"")
C30: =IFERROR(B30/$B$36,"") | G30: =IFERROR(F30/$F$36,"") | K30: =IFERROR(J30/$F$36,"")
C31: =IFERROR(B31/$B$36,"") | G31: =IFERROR(F31/$F$36,"") | K31: =IFERROR(J31/$F$36,"")
C32: =IFERROR(B32/$B$36,"") | G32: =IFERROR(F32/$F$36,"") | K32: =IFERROR(J32/$F$36,"")
C33: =IFERROR(B33/$B$36,"") | G33: =IFERROR(F33/$F$36,"") | K33: =IFERROR(J33/$F$36,"")
A34: Top 10 | B34: =SUM(B24:B33) -> 0 | C34: =SUM(C24:C33) -> 0 | E34: Top 10 | F34: =SUM(F24:F33) -> 0 | G34: =SUM(G24:G33) -> 0 | I34: Top 10 | J34: =SUM(J24:J33) -> 0 | K34: =SUM(K24:K33) -> 0
A35: Ostali | C35: =IFERROR(B35/$B$36,"") | E35: Ostali | G35: =IFERROR(F35/$F$36,"") | I35: Ostali | K35: =IFERROR(J35/$F$36,"")
A36: UKUPNO | B36: =B34+B35 -> 0 | C36: =IFERROR(B36/$B$36,"") | E36: UKUPNO | F36: =F34+F35 -> 0 | G36: =IFERROR(F36/$F$36,"") | I36: UKUPNO | J36: =J34+J35 -> 0 | K36: =IFERROR(J36/$F$36,"")

Sheet Dobavljači
A1: Dobavljač | B1: =CONCATENATE("Stanje na dan ",TEXT(Uputa!E14,"dd.mm.yyy"),) -> Stanje na dan 00.01.1900
B2: Ukupno | C2: Nedospjelo | D2: Dospjelo | E2: Dospjelo 1-30d | F2: Dospjelo 31-90d | H2: Dospjelo preko 90d**
B3: =IFERROR(C3+D3,"") -> 0 | D3: =IFERROR(SUM(E3:H3),"") -> 0
B4: =IFERROR(C4+D4,"") -> 0 | D4: =IFERROR(SUM(E4:H4),"") -> 0
B5: =IFERROR(C5+D5,"") -> 0 | D5: =IFERROR(SUM(E5:H5),"") -> 0
B6: =IFERROR(C6+D6,"") -> 0 | D6: =IFERROR(SUM(E6:H6),"") -> 0
B7: =IFERROR(C7+D7,"") -> 0 | D7: =IFERROR(SUM(E7:H7),"") -> 0
B8: =IFERROR(C8+D8,"") -> 0 | D8: =IFERROR(SUM(E8:H8),"") -> 0
B9: =IFERROR(C9+D9,"") -> 0 | D9: =IFERROR(SUM(E9:H9),"") -> 0
B10: =IFERROR(C10+D10,"") -> 0 | D10: =IFERROR(SUM(E10:H10),"") -> 0
B11: =IFERROR(C11+D11,"") -> 0 | D11: =IFERROR(SUM(E11:H11),"") -> 0
B12: =IFERROR(C12+D12,"") -> 0 | D12: =IFERROR(SUM(E12:H12),"") -> 0
A13: Top 10 | B13: =SUM(B3:B12) -> 0 | C13: =SUM(C3:C12) -> 0 | D13: =SUM(D3:D12) -> 0 | E13: =SUM(E3:E12) -> 0 | F13: =SUM(F3:G12) -> 0 | H13: =SUM(H3:H12) -> 0
A14: Ostali | B14: =IFERROR(C14+D14,"") -> 0 | D14: =IFERROR(SUM(E14:H14),"") -> 0
A15: UKUPNO* | B15: =B13+B14 -> 0 | C15: =C13+C14 -> 0 | D15: =D13+D14 -> 0 | E15: =E13+E14 -> 0 | F15: =F13+F14 -> 0 | H15: =H13+H14 -> 0
A16: Unosi se od najvećeg stanja obveze na gore navedeni datum
A17: *Ukupno mora odgovarati stanju ukupnih dobavljača iz pripadajuće bruto bilance na gore navedeni datum
A18: **Obavezno dodatno specificirati najveće obveze dospjele preko 90 dana
A21: Najveći prometi s dobavljačima u tekućoj godini | E21: Najveći prometi s dobavljačima u prethodnoj godini
A22: Dobavljač | B22: =CONCATENATE("Promet do ",TEXT(Uputa!E14,"dd.mm.yyy")) -> Promet do 00.01.1900 | E22: Dobavljač | F22: =CONCATENATE("Promet u prethodnoj godini (",Uputa!E17-1,")") -> Promet u prethodnoj godini (-1)
B23: 000 EUR | C23: % | F23: 000 EUR | G23: %
C24: =IFERROR(B24/$B$36,"") | G24: =IFERROR(F24/$F$36,"")
C25: =IFERROR(B25/$B$36,"") | G25: =IFERROR(F25/$F$36,"")
C26: =IFERROR(B26/$B$36,"") | G26: =IFERROR(F26/$F$36,"")
C27: =IFERROR(B27/$B$36,"") | G27: =IFERROR(F27/$F$36,"")
C28: =IFERROR(B28/$B$36,"") | G28: =IFERROR(F28/$F$36,"")
C29: =IFERROR(B29/$B$36,"") | G29: =IFERROR(F29/$F$36,"")
C30: =IFERROR(B30/$B$36,"") | G30: =IFERROR(F30/$F$36,"")
C31: =IFERROR(B31/$B$36,"") | G31: =IFERROR(F31/$F$36,"")
C32: =IFERROR(B32/$B$36,"") | G32: =IFERROR(F32/$F$36,"")
C33: =IFERROR(B33/$B$36,"") | G33: =IFERROR(F33/$F$36,"")
A34: Top 10 | B34: =SUM(B24:B33) -> 0 | C34: =SUM(C24:C33) -> 0 | E34: Top 10 | F34: =SUM(F24:F33) -> 0 | G34: =SUM(G24:G33) -> 0
A35: Ostali | C35: =IFERROR(B35/$B$36,"") | E35: Ostali | G35: =IFERROR(F35/$F$36,"")
A36: UKUPNO | B36: =B34+B35 -> 0 | C36: =IFERROR(B36/$B$36,"") | E36: UKUPNO | F36: =F34+F35 -> 0 | G36: =IFERROR(F36/$F$36,"")

Sheet Pregled zaduženosti
A1: Dugoročni krediti i leasing obveze** (u 000 EUR)
A2: Klijent | B2: Kreditor | C2: Odobren iznos u valuti odobrenja | D2: Valuta | E2: Datum odobrenja | F2: Konačno dospijeće | G2: Kamatna stopa | I2: =CONCATENATE("Stanje duga na ",TEXT(Uputa!E19,"dd.mm.yyy")) -> #NUM! | J2: =CONCATENATE("Stanje duga na ",TEXT(Uputa!E14,"dd.mm.yyy")) -> Stanje duga na 00.01.1900 | K2: =CONCATENATE("Neiskorišteni iznos na ",TEXT(Uputa!E14,"dd.mm.yyy")) -> Neiskorišteni iznos na 00.01.1900 | L2: Cjelogodišnja obveza po glavnici (CPLTD) u 000 EUR*
G3: % | H3: Fiksna/ Varijabilna | L3: =Uputa!E17-1 -> -1 | M3: =Uputa!E17 -> 0 | N3: =M3+1 -> 1 | O3: =N3+1 -> 2 | P3: =O3+1 -> 3 | Q3: =P3+1 -> 4 | R3: =Q3+1 -> 5 | S3: Ostatak duga
T4: =IF(I4<>SUM(M4:S4),CONCATENATE("Zbroj kolona M:S mora odgovarati stanju na ",TEXT(Uputa!$E$19,"dd.mm.yyy")," osim za kredite u korištenju"),"")
T5: =IF(I5<>SUM(M5:S5),CONCATENATE("Zbroj kolona M:S mora odgovarati stanju na ",TEXT(Uputa!$E$19,"dd.mm.yyy")," osim za kredite u korištenju"),"")
T6: =IF(I6<>SUM(M6:S6),CONCATENATE("Zbroj kolona M:S mora odgovarati stanju na ",TEXT(Uputa!$E$19,"dd.mm.yyy")," osim za kredite u korištenju"),"")
T7: =IF(I7<>SUM(M7:S7),CONCATENATE("Zbroj kolona M:S mora odgovarati stanju na ",TEXT(Uputa!$E$19,"dd.mm.yyy")," osim za kredite u korištenju"),"")
T8: =IF(I8<>SUM(M8:S8),CONCATENATE("Zbroj kolona M:S mora odgovarati stanju na ",TEXT(Uputa!$E$19,"dd.mm.yyy")," osim za kredite u korištenju"),"")
T9: =IF(I9<>SUM(M9:S9),CONCATENATE("Zbroj kolona M:S mora odgovarati stanju na ",TEXT(Uputa!$E$19,"dd.mm.yyy")," osim za kredite u korištenju"),"")
T10: =IF(I10<>SUM(M10:S10),CONCATENATE("Zbroj kolona M:S mora odgovarati stanju na ",TEXT(Uputa!$E$19,"dd.mm.yyy")," osim za kredite u korištenju"),"")
T11: =IF(I11<>SUM(M11:S11),CONCATENATE("Zbroj kolona M:S mora odgovarati stanju na ",TEXT(Uputa!$E$19,"dd.mm.yyy")," osim za kredite u korištenju"),"")
T12: =IF(I12<>SUM(M12:S12),CONCATENATE("Zbroj kolona M:S mora odgovarati stanju na ",TEXT(Uputa!$E$19,"dd.mm.yyy")," osim za kredite u korištenju"),"")
T13: =IF(I13<>SUM(M13:S13),CONCATENATE("Zbroj kolona M:S mora odgovarati stanju na ",TEXT(Uputa!$E$19,"dd.mm.yyy")," osim za kredite u korištenju"),"")
T14: =IF(I14<>SUM(M14:S14),CONCATENATE("Zbroj kolona M:S mora odgovarati stanju na ",TEXT(Uputa!$E$19,"dd.mm.yyy")," osim za kredite u korištenju"),"")
T15: =IF(I15<>SUM(M15:S15),CONCATENATE("Zbroj kolona M:S mora odgovarati stanju na ",TEXT(Uputa!$E$19,"dd.mm.yyy")," osim za kredite u korištenju"),"")
... T18: =IF(I18<>SUM(M18:S18),CONCATENATE("Zbroj kolona M:S mora odgovarati stanju na ",TEXT(Uputa!$E$19,"dd.mm.yyy")," osim za kredite u korištenju"),"")
A19: UKUPNO DK i CPLTD | I19: =SUM(I4:I18) -> 0 | J19: =SUM(J4:J18) -> 0 | K19: =SUM(K4:K18) -> 0 | M19: =SUM(M4:M18) -> 0 | N19: =SUM(N4:N18) -> 0 | O19: =SUM(O4:O18) -> 0 | P19: =SUM(P4:P18) -> 0 | Q19: =SUM(Q4:Q18) -> 0 | R19: =SUM(R4:R18) -> 0 | S19: =SUM(S4:S18) -> 0 | T19: =IF(I19<>SUM(M19:S19),CONCATENATE("Zbroj kolona M:S mora odgovarati stanju na ",TEXT(Uputa!$E$19,"dd.mm.yyy")," osim za kredite u korištenju"),"")
A20: Napomena: *unosi se tekuće dospijeće glavnice dugoročnih kredita u cijeloj godini (uključujući i već otplaćeni iznos u tekućoj godini)
A21: **ukoliko se primjenjuju Međunarodni standardi financijskog izvještavanja, potrebno je uključiti i dugoročne obveze po najmovima
A22: Napomena: stanje duga uključuje stanja na AOP 099 + 101 + 102 + 103
A26: Kratkoročni krediti (u 000 EUR)
A27: Klijent | B27: Kreditor | C27: Vrsta kredita (KK/revolving/i dr.) | E27: Odobren iznos u valuti odobrenja | F27: Valuta | G27: Datum odobrenja | H27: Konačno dospijeće | I27: =I2 -> #NUM! | J27: =J2 -> Stanje duga na 00.01.1900 | K27: =K2 -> Neiskorišteni iznos na 00.01.1900 | L27: Kamatna stopa
L28: % | M28: Fiksna/ Varijabilna
A39: UKUPNO KK | I39: =SUM(I29:I38) -> 0 | J39: =SUM(J29:J38) -> 0 | K39: =SUM(K29:K38) -> 0
A40: Napomena: tablica uključuje stanja na AOP 111 + 113 + 114 + 115
A44: Limiti/Okviri i Plasmani izvan okvira/ limita (u 000 EUR) | P44: {=IF(OR(C46:F55="Okvir za razne vrste kratkoročne izloženosti",C46:F55="Ostalo",C46:F55="Limit"),"Popuniti samo za okvire i limite koji se mogu koristit za više vrsta plasmana")} -> FALSE
A45: Klijent | B45: Kreditor | C45: Vrsta limita/okvira | G45: Odobreni iznos u valuti odobrenja | H45: Valuta | I45: Datum odobrenja | J45: Datum krajnjeg korištenja | K45: =CONCATENATE("Stanje na ",TEXT(Uputa!E19,"dd.mm.yyy")) -> #NUM! | L45: =CONCATENATE("Stanje na ",TEXT(Uputa!E14,"dd.mm.yyy")) -> Stanje na 00.01.1900 | N45: =K27 -> Neiskorišteni iznos na 00.01.1900 | P45: {=IF(OR(C46:F55="Okvir za razne vrste kratkoročne izloženosti",C46:F55="Ostalo",C46:F55="Limit"),CONCATENATE("Stanje akreditiva na ",TEXT(Uputa!E14,"dd.mm.yyy")),"")} | R45: {=IF(OR(C46:F55="Okvir za razne vrste kratkoročne izloženosti",C46:F55="Ostalo",,C46:F55="Limit"),CONCATENATE("Stanje garancija na ",TEXT(Uputa!E14,"dd.mm.yyy")),"")} | T45: {=IF(OR(C46:F55="Okvir za razne vrste kratkoročne izloženosti",C46:F55="Ostalo",,C46:F55="Limit"),CONCATENATE("Stanje kredita na ",TEXT(Uputa!E14,"dd.mm.yyy")),"")} | V45: {=IF(OR(C46:F55="Okvir za razne vrste kratkoročne izloženosti",C46:F55="Ostalo",,C46:F55="Limit"),CONCATENATE("Stanje factoringa na ",TEXT(Uputa!E14,"dd.mm.yyy")),"")} | W45: {=IF(OR(C46:F55="Okvir za razne vrste kratkoročne izloženosti",C46:F55="Ostalo",C46:F55="Limit"),CONCATENATE("Stanje ostalog na ",TEXT(Uputa!E14,"dd.mm.yyy")),"")} | X45: {=IF(OR(C46:F55="Okvir za razne vrste kratkoročne izloženosti",C46:F55="Ostalo",C46:F55="Limit"),"Komentar","")}
A56: UKUPNO LIMITI/OKVIRI | K56: =SUM(K46:K55) -> 0 | L56: =SUM(L46:M55) -> 0 | N56: =SUM(N46:O55) -> 0 | P56: {=IF(OR(C46:F55="Okvir za razne vrste kratkoročne izloženosti",C46:F55="Ostalo",C46:F55="Limit"),SUM(P46:Q55),"")} | R56: {=IF(OR(C46:F55="Okvir za razne vrste kratkoročne izloženosti",C46:F55="Ostalo",C46:F55="Limit"),SUM(R46:S55),"")} | T56: {=IF(OR($C$46:$F$55="Okvir za razne vrste kratkoročne izloženosti",$C$46:$F$55="Ostalo",$C$46:$F$55="Limit"),SUM(T46:U55),"")} | V56: {=IF(OR($C$46:$F$55="Okvir za razne vrste kratkoročne izloženosti",$C$46:$F$55="Ostalo",$C$46:$F$55="Limit"),SUM(V46:V55),"")} | W56: {=IF(OR(C46:F55="Okvir za razne vrste kratkoročne izloženosti",C46:F55="Ostalo",C46:F55="Limit"),SUM(W46:W55),"")}
A57: Napomena: molimo ovdje naznačiti opisno koliki dio limita/okvira se može koristiti za kratkoročne kredite (KK), a koliki za garancije te koliko je neiskorišteno na navedene datume
A58: Ako je neki od gore navedenih okvira odobren iz limita onda molimo da se stanja limita umanje za odobrene okvire
B59: {=IF(OR($C$46:$F$55="Garancija izvan limita/ okvira*"),"*Ukoliko ima više garancije iste vrste, navedite grupirano (npr. platežne, činidbene…)","")}
A65: Dana jamstva/sudužništva (u 000 EUR)
A66: Klijent | B66: Kreditor | C66: Vrsta kredita (DK/KK/leasing i dr.) | E66: Odobreni iznos u valuti odobrenja | F66: Valuta | G66: Datum odobrenja | H66: Konačno dospijeće | I66: =K45 -> #NUM! | J66: =L45 -> Stanje na 00.01.1900 | K66: =N45 -> Neiskorišteni iznos na 00.01.1900 | L66: Cjelogodišnji iznos otplate u 000 EUR
A77: UKUPNO JAMSTVA/SUDUŽNIŠTVA | I77: =SUM(I67:I76) -> 0 | J77: =SUM(J67:J76) -> 0 | K77: =SUM(K67:K76) -> 0 | L77: =SUM(L67:M76) -> 0
A78: Napomena: molimo naznačiti je li bilo poziva na plaćanje po danim jamstvima/sudužništvima ili ih očekujete

Sheet Poslovni plan
B2: Molimo dostaviti vaš postojeći važeći poslovni plan ili popuniti podatke u tablici u bijelim poljima u 000 EUR. Plan je potrebno popuniti za vremensko razdoblje sukladno ročnosti najduljeg plasmana u UniCredit Leasing Croatia d.o.o. (postojeći i predloženi plasmani).
B4: RAČUN DOBITI I GUBITKA
B5: u 000 EUR | C5: =YEAR(Uputa!E19) -> #NUM! | D5: =C5+1 -> #NUM! | E5: =D5+1 -> #NUM! | F5: =E5+1 -> #NUM! | G5: =F5+1 -> #NUM! | H5: =G5+1 -> #NUM! | K5: GLAVNE PRETPOSTAVKE POSLOVNOG PLANA - pojasniti razloge najznačajnijih promjena u usporednim razdobljima (npr. prihod i profitabilnost) -
B6: Poslovni prihodi - ukupno | C6: =C7+C12 -> 0 | D6: =D7+D12 -> 0 | E6: =E7+E12 -> 0 | F6: =F7+F12 -> 0 | G6: =G7+G12 -> 0 | H6: =H7+H12 -> 0
B7: Prihodi od prodaje (ispod navesti glavne grupe prihoda) | C7: =SUM(C8:C11) -> 0 | D7: =SUM(D8:D11) -> 0 | E7: =SUM(E8:E11) -> 0 | F7: =SUM(F8:F11) -> 0 | G7: =SUM(G8:G11) -> 0 | H7: =SUM(H8:H11) -> 0
B12: Ostali poslovni prihodi
B13: Poslovni rashodi - ukupno | C13: =C14+C18+C19+C20+C21 -> 0 | D13: =D14+D18+D19+D20+D21 -> 0 | E13: =E14+E18+E19+E20+E21 -> 0 | F13: =F14+F18+F19+F20+F21 -> 0 | G13: =G14+G18+G19+G20+G21 -> 0 | H13: =H14+H18+H19+H20+H21 -> 0
B14: Materijalni troškovi | C14: =C15+C16+C17 -> 0 | D14: =D15+D16+D17 -> 0 | E14: =E15+E16+E17 -> 0 | F14: =F15+F16+F17 -> 0 | G14: =G15+G16+G17 -> 0 | H14: =H15+H16+H17 -> 0
B15: Trošak sirovina i materijala
B16: Trošak prodane robe
B17: Ostali vanjski troškovi
B18: Trošak osoblja
B19: Amortizacija
B20: Rezerviranja
B21: Ostali rashodi
B22: EBITDA | C22: =C6-C13+C19 -> 0 | D22: =D6-D13+D19 -> 0 | E22: =E6-E13+E19 -> 0 | F22: =F6-F13+F19 -> 0 | G22: =G6-G13+G19 -> 0 | H22: =H6-H13+H19 -> 0
B23: EBITDA marža | C23: =IFERROR(C22/C7,"0") -> 0 | D23: =IFERROR(D22/D7,"0") -> 0 | E23: =IFERROR(E22/E7,"0") -> 0 | F23: =IFERROR(F22/F7,"0") -> 0 | G23: =IFERROR(G22/G7,"0") -> 0 | H23: =IFERROR(H22/H7,"0") -> 0
B24: Financijski i izvanredni prihodi
B25: Financijski i izvanredni rashodi
B26: Dobit prije poreza | C26: =C6+C24-C13-C25 -> 0 | D26: =D6+D24-D13-D25 -> 0 | E26: =E6+E24-E13-E25 -> 0 | F26: =F6+F24-F13-F25 -> 0 | G26: =G6+G24-G13-G25 -> 0 | H26: =H6+H24-H13-H25 -> 0
B27: Porez na dobit
B28: Dobit nakon poreza | C28: =C26-C27 -> 0 | D28: =D26-D27 -> 0 | E28: =E26-E27 -> 0 | F28: =F26-F27 -> 0 | G28: =G26-G27 -> 0 | H28: =H26-H27 -> 0
B30: Prihodi od prodaje % yoy | C30: - | D30: =IFERROR(D7/C7-1,"-") -> - | E30: =IFERROR(E7/D7-1,"-") -> - | F30: =IFERROR(F7/E7-1,"-") -> - | G30: =IFERROR(G7/F7-1,"-") -> - | H30: =IFERROR(H7/G7-1,"-") -> -
B31: Materijalni rashodi (COGS) / Prihod od prodaje | C31: =IFERROR(((C15+C16)/C7),"-") -> - | D31: =IFERROR(((D15+D16)/D7),"-") -> - | E31: =IFERROR(((E15+E16)/E7),"-") -> - | F31: =IFERROR(((F15+F16)/F7),"-") -> - | G31: =IFERROR(((G15+G16)/G7),"-") -> - | H31: =IFERROR(((H15+H16)/H7),"-") -> -
B32: Ostali vanjski troškovi % yoy | C32: - | D32: =IFERROR(((D17/C17)-1),"-") -> - | E32: =IFERROR(((E17/D17)-1),"-") -> - | F32: =IFERROR(((F17/E17)-1),"-") -> - | G32: =IFERROR(((G17/F17)-1),"-") -> - | H32: =IFERROR(((H17/G17)-1),"-") -> -
B33: Ostali troškovi (ostali+rezerviranja) / Prihod od prodaje | C33: =IFERROR(((C20+C21)/C7),"-") -> - | D33: =IFERROR(((D20+D21)/D7),"-") -> - | E33: =IFERROR(((E20+E21)/E7),"-") -> - | F33: =IFERROR(((F20+F21)/F7),"-") -> - | G33: =IFERROR(((G20+G21)/G7),"-") -> - | H33: =IFERROR(((H20+H21)/H7),"-") -> -
B34: Trošak osoblja % yoy | C34: - | D34: =IFERROR(((D18/C18)-1),"-") -> - | E34: =IFERROR(((E18/D18)-1),"-") -> - | F34: =IFERROR(((F18/E18)-1),"-") -> - | G34: =IFERROR(((G18/F18)-1),"-") -> - | H34: =IFERROR(((H18/G18)-1),"-") -> -
B37: BILANCA
B38: u 000 EUR | C38: =Uputa!E19 -> #NUM! | D38: =EDATE(C38,12) -> #NUM! | E38: =EDATE(D38,12) -> #NUM! | F38: =EDATE(E38,12) -> #NUM! | G38: =EDATE(F38,12) -> #NUM! | H38: =EDATE(G38,12) -> #NUM!
B39: Nova financijska zaduženja - ukupno* | C39: =C40+C41 -> 0 | D39: =D40+D41 -> 0 | E39: =E40+E41 -> 0 | F39: =F40+F41 -> 0 | G39: =G40+G41 -> 0 | H39: =H40+H41 -> 0
B40: od čega dugoročna
B41: od čega kratkoročna
B42: Financijski dug krajem razdoblja - stanje
B43: Planirane investicije/CAPEX - ukupno | C43: =C44+C45 -> 0 | D43: =D44+D45 -> 0 | E43: =E44+E45 -> 0 | F43: =F44+F45 -> 0 | G43: =G44+G45 -> 0 | H43: =H44+H45 -> 0
B44: od čega za održavanje
B45: od čega za nove investicije
B46: Planirana isplata dobiti
B47: *nova zaduženja uključiti u projekciju ukupnog financijskog duga krajem razdoblja te za eventualna nova dugoročna zaduženja navesti pojedinačne podatke prema donjoj tablici
B50: Novi dugoročni krediti | C50: Iznos | D50: Datum početka otplate | E50: Krajnji datum otplate | F50: Godišnji iznos otplate u 000 EUR
B55: Ukupno | C55: =SUM(C51:C54) -> 0
...

Sheet Djelatnost
B3: Djelatnost
B4: Naziv djelatnosti Društva | E4: % prihoda
A5: glavna
A6: ostale
B10: UKUPNO | E10: =SUM(E5:G9) -> 0
B14: Konkurencija
B15: Konkurent | E15: Tržišni udio (u %) | H15: Tržišni lider (da / ne)

Sheet Dani krediti
A2: Pregled danih kredita i avansa
A3: Naziv dužnika | B3: Odobreni iznos | C3: Iznos rate | D3: Datum odobrenja | E3: Krajnji rok dospijeća | F3: =CONCATENATE("Stanje na dan ",TEXT(Uputa!E19,"dd.mm.yyy")) -> #NUM! | G3: =CONCATENATE("Stanje na dan ",TEXT(Uputa!E14,"dd.mm.yyy")) -> Stanje na dan 00.01.1900 | H3: Datum dospijeća | I3: Način otplate | J3: Kamatna stopa | K3: Instrumenti osiguranja
A9: UKUPNO | B9: =SUM(B4:B8) -> 0 | C9: =SUM(C4:C8) -> 0 | F9: =SUM(F4:F8) -> 0 | G9: =SUM(G4:G8) -> 0
A10: *Napomena: tablica uključuje stanja AOP 023 + 026 + 028 + 056 + 059 + 061

Sheet Ugovoreni poslovi
A2: Ugovoreni poslovi
A3: Naručitelj/ Investitor/ Kupac | B3: Vrsta (Ugovoreno / Planirano) | C3: Datum ugovaranja / Planirani datum sklapanja ugovora | D3: Ugovoreni iznos / Planirana vrijednost | E3: Datum početka | F3: Datum završetka | G3: =CONCATENATE("Izvršeno do ",TEXT(Uputa!E14,"dd.mm.yyy")," (u 000 EUR)") -> Izvršeno do 00.01.1900 (u 000 EUR) | H3: Preostalo za završiti (u 000 EUR) | I3: Postotak završenosti (u %) | J3: =CONCATENATE("Naplaćeno do ",TEXT(Uputa!E14,"dd.mm.yyy")," (u 000 EUR)") -> Naplaćeno do 00.01.1900 (u 000 EUR) | K3: Preostalo za naplatiti do kraja posla (u 000 EUR) | L3: Komentar
H4: =D4-G4 -> 0 | I4: =IFERROR(+G4/D4,"") | K4: =+D4-J4 -> 0
H5: =D5-G5 -> 0 | I5: =IFERROR(+G5/D5,"") | K5: =+D5-J5 -> 0
H6: =D6-G6 -> 0 | I6: =IFERROR(+G6/D6,"") | K6: =+D6-J6 -> 0
H7: =D7-G7 -> 0 | I7: =IFERROR(+G7/D7,"") | K7: =+D7-J7 -> 0
H8: =D8-G8 -> 0 | I8: =IFERROR(+G8/D8,"") | K8: =+D8-J8 -> 0
H9: =D9-G9 -> 0 | I9: =IFERROR(+G9/D9,"") | K9: =+D9-J9 -> 0
H10: =D10-G10 -> 0 | I10: =IFERROR(+G10/D10,"") | K10: =+D10-J10 -> 0
H11: =D11-G11 -> 0 | I11: =IFERROR(+G11/D11,"") | K11: =+D11-J11 -> 0
H12: =D12-G12 -> 0 | I12: =IFERROR(+G12/D12,"") | K12: =+D12-J12 -> 0
H13: =D13-G13 -> 0 | I13: =IFERROR(+G13/D13,"") | K13: =+D13-J13 -> 0
H14: =D14-G14 -> 0 | I14: =IFERROR(+G14/D14,"") | K14: =+D14-J14 -> 0
H15: =D15-G15 -> 0 | I15: =IFERROR(+G15/D15,"") | K15: =+D15-J15 -> 0
A16: UKUPNO | D16: =SUM(D4:D15) -> 0 | G16: =SUM(G4:G15) -> 0 | H16: =SUM(H4:H15) -> 0 | I16: =IFERROR(+G16/D16,"") | J16: =SUM(J4:J15) -> 0 | K16: =SUM(K4:K15) -> 0
